BEGIN:VCALENDAR
VERSION:2.0
PRODID:-//Trachtenverein Pauluszell - ECPv6.3.5//NONSGML v1.0//EN
CALSCALE:GREGORIAN
METHOD:PUBLISH
X-ORIGINAL-URL:https://trachtenverein-pauluszell.de
X-WR-CALDESC:Veranstaltungen für Trachtenverein Pauluszell
REFRESH-INTERVAL;VALUE=DURATION:PT1H
X-Robots-Tag:noindex
X-PUBLISHED-TTL:PT1H
BEGIN:VTIMEZONE
TZID:UTC
BEGIN:STANDARD
TZOFFSETFROM:+0000
TZOFFSETTO:+0000
TZNAME:UTC
DTSTART:20250101T000000
END:STANDARD
END:VTIMEZONE
BEGIN:VEVENT
DTSTART;TZID=UTC:20251018T193000
DTEND;TZID=UTC:20251018T230000
DTSTAMP:20260424T122626
CREATED:20250910T154513Z
LAST-MODIFIED:20250910T154646Z
UID:330-1760815800-1760828400@trachtenverein-pauluszell.de
SUMMARY:Kirta des Trachtenvereins Pauluszell
DESCRIPTION:
URL:https://trachtenverein-pauluszell.de/event/vereinskirta-2
LOCATION:Gasthaus Maier Wurmsham
END:VEVENT
END:VCALENDAR