BEGIN:VCALENDAR
VERSION:2.0
PRODID:-//Trachtenverein Pauluszell - ECPv6.3.5//NONSGML v1.0//EN
CALSCALE:GREGORIAN
METHOD:PUBLISH
X-ORIGINAL-URL:https://trachtenverein-pauluszell.de
X-WR-CALDESC:Veranstaltungen für Trachtenverein Pauluszell
REFRESH-INTERVAL;VALUE=DURATION:PT1H
X-Robots-Tag:noindex
X-PUBLISHED-TTL:PT1H
BEGIN:VTIMEZONE
TZID:UTC
BEGIN:STANDARD
TZOFFSETFROM:+0000
TZOFFSETTO:+0000
TZNAME:UTC
DTSTART:20260101T000000
END:STANDARD
END:VTIMEZONE
BEGIN:VEVENT
DTSTART;TZID=UTC:20260501T000000
DTEND;TZID=UTC:20260501T235959
DTSTAMP:20260420T124308
CREATED:20251216T180000Z
LAST-MODIFIED:20251216T180000Z
UID:360-1777593600-1777679999@trachtenverein-pauluszell.de
SUMMARY:Maibaum aufstellen
DESCRIPTION:
URL:https://trachtenverein-pauluszell.de/event/maibaum-aufstellen-2
LOCATION:Pauluszell
END:VEVENT
END:VCALENDAR